BEGIN:VCALENDAR
PRODID:-//eluceo/ical//2.0/EN
VERSION:2.0
CALSCALE:GREGORIAN
BEGIN:VEVENT
UID:3253d6a2617e338d377e297fc0fdd804
DTSTAMP:20260422T144141Z
SUMMARY:Webinar : Aldersvennlige og inkluderende møteplasser for eldre (2)
DESCRIPTION:
URL:https://bibliotekutvikling.no/kompetansebank/event/webinar-aldersvennli
 ge-og-inkluderende-moteplasser-for-eldre-2/
DTSTART;TZID=Europe/Oslo:20260422T120000
DTEND;TZID=Europe/Oslo:20260422T130000
END:VEVENT
END:VCALENDAR
