BEGIN:VCALENDAR
PRODID:-//eluceo/ical//2.0/EN
VERSION:2.0
CALSCALE:GREGORIAN
BEGIN:VEVENT
UID:451fc7ce7e4452b0323020536996ff35
DTSTAMP:20260422T143547Z
SUMMARY:Webinar: Svindel\, påvirkning og demokratisk beredskap
DESCRIPTION:
URL:https://bibliotekutvikling.no/kompetansebank/event/webinar-svindel-pavi
 rkning-og-demokratisk-beredskap/
DTSTART;TZID=Europe/Oslo:20260422T090000
DTEND;TZID=Europe/Oslo:20260422T100000
END:VEVENT
END:VCALENDAR
