BEGIN:VCALENDAR
PRODID:-//eluceo/ical//2.0/EN
VERSION:2.0
CALSCALE:GREGORIAN
BEGIN:VEVENT
UID:b6dc0862e1e18ed1391f2949f5e00d2c
DTSTAMP:20260423T124528Z
SUMMARY:Digitalt påfyll : Kompetansebehov for dagens og morgendagens bibli
 otekarer
DESCRIPTION:
URL:https://bibliotekutvikling.no/kompetansebank/event/digitalt-pafyll-komp
 etansebehov-for-dagens-og-morgendagens-bibliotekarer/
DTSTART;TZID=Europe/Oslo:20260423T090000
DTEND;TZID=Europe/Oslo:20260423T094500
END:VEVENT
END:VCALENDAR
