BEGIN:VCALENDAR
PRODID:-//eluceo/ical//2.0/EN
VERSION:2.0
CALSCALE:GREGORIAN
BEGIN:VEVENT
UID:29ae756f0acc9e6e410543cfe1fbdc0f
DTSTAMP:20260419T125648Z
SUMMARY:Nasjonal konferanse om lesing 2026: Tid for lesing i barnehagen
DESCRIPTION:Mandag 23. mars kl. 10:00 - Tirsdag 24. mars kl. 15:00\, Clario
 n Hotel Energy\, Stavanger. Se program og kjøp billetter til årets kjekk
 este barnehagekonferanse!
URL:https://bibliotekutvikling.no/kompetansebank/event/nasjonal-konferanse-
 om-lesing-2026-tid-for-lesing-i-barnehagen/
DTSTART;VALUE=DATE:20260323
DTEND;VALUE=DATE:20260325
LOCATION:Ishockyeveien 2\, 4021 Stavanger
END:VEVENT
END:VCALENDAR
