BEGIN:VCALENDAR
PRODID:-//eluceo/ical//2.0/EN
VERSION:2.0
CALSCALE:GREGORIAN
BEGIN:VEVENT
UID:51724b7b345f5d49dac8cf7d90bbc014
DTSTAMP:20260422T090055Z
SUMMARY:Digitalt påfyll: Folk møter folk
DESCRIPTION:
URL:https://bibliotekutvikling.no/kompetansebank/event/digitalt-pafyll-4-de
 sember/
DTSTART;TZID=Europe/Oslo:20251204T090000
DTEND;TZID=Europe/Oslo:20251204T090000
END:VEVENT
END:VCALENDAR
