BEGIN:VCALENDAR
PRODID:-//eluceo/ical//2.0/EN
VERSION:2.0
CALSCALE:GREGORIAN
BEGIN:VEVENT
UID:ce965ed264c83b9b300106825b99f0dd
DTSTAMP:20260420T083728Z
SUMMARY:Fantastic Futures 2025: AI Everywhere\, All at Once
DESCRIPTION:The British Library and the Programme Committee for the Fantast
 ic Futures 2025 conference are delighted to invite proposals for presentat
 ions and workshops. Submissions are invited from colleagues around the wor
 ld about organisations\, collections\, interest and experience with Artifi
 cial Intelligence (AI) and Machine Learning (ML) technologies applied to o
 r developed with cultural\, research and heritage collections. This includ
 es practitioners in the GLAM (Galleries\, Libraries\, Archives\, Museums) 
 sector and Digital Humanities\, Arts and Social Sciences\, Data\, Informat
 ion and Computer Science researchers in Higher Education.
URL:https://bibliotekutvikling.no/kompetansebank/event/fantastic-futures-20
 25-ai-everywhere-all-at-once/
DTSTART;TZID=Europe/Oslo:20251203T090000
DTEND;TZID=Europe/Oslo:20251205T160000
LOCATION:96 Euston Road\, NW1 2DB London
END:VEVENT
END:VCALENDAR
