BEGIN:VCALENDAR
PRODID:-//eluceo/ical//2.0/EN
VERSION:2.0
CALSCALE:GREGORIAN
BEGIN:VEVENT
UID:78166c7894351bb3bc474fa43d26eb42
DTSTAMP:20260420T212918Z
SUMMARY:Forbudte bøker-uka Norge
DESCRIPTION:
URL:https://bibliotekutvikling.no/kompetansebank/event/forbudte-boker-uka-n
 orge/
DTSTART;VALUE=DATE:20251006
DTEND;VALUE=DATE:20251013
END:VEVENT
END:VCALENDAR
