BEGIN:VCALENDAR
PRODID:-//eluceo/ical//2.0/EN
VERSION:2.0
CALSCALE:GREGORIAN
BEGIN:VEVENT
UID:b5fa8ebc4d6cfbb9802156b745f3e369
DTSTAMP:20260421T085038Z
SUMMARY:Ungdomsbokgildet
DESCRIPTION:
URL:https://bibliotekutvikling.no/kompetansebank/event/ungdomsbokgildet/
DTSTART;TZID=Europe/Oslo:20251120T093000
DTEND;TZID=Europe/Oslo:20251120T150000
END:VEVENT
END:VCALENDAR
